BEGIN:VCALENDAR
VERSION:2.0
PRODID:icalendar-ruby
CALSCALE:GREGORIAN
METHOD:PUBLISH
BEGIN:VEVENT
DTSTAMP:20260423T212923Z
UID:5-408952@communitycovenant123.tithelysetup2.com
DTSTART:20260614T173000Z
DTEND:20260614T183000Z
CLASS:PUBLIC
CREATED:20260422T181042
DESCRIPTION:Sunday Worship
LAST-MODIFIED:20260422T181042
LOCATION:
SUMMARY:Sunday Worship
URL;VALUE=URI:https://communitycovenant123.tithelysetup2.com/events/sunday-
 worship/2026-06-14
END:VEVENT
END:VCALENDAR
